BEGIN:VCALENDAR
VERSION:2.0
PRODID:-//paev.fr - ECPv6.1.3//NONSGML v1.0//EN
CALSCALE:GREGORIAN
METHOD:PUBLISH
X-WR-CALNAME:paev.fr
X-ORIGINAL-URL:https://paev.fr
X-WR-CALDESC:évènements pour paev.fr
REFRESH-INTERVAL;VALUE=DURATION:PT1H
X-Robots-Tag:noindex
X-PUBLISHED-TTL:PT1H
BEGIN:VTIMEZONE
TZID:Europe/Paris
BEGIN:DAYLIGHT
TZOFFSETFROM:+0100
TZOFFSETTO:+0200
TZNAME:CEST
DTSTART:20230326T010000
END:DAYLIGHT
BEGIN:STANDARD
TZOFFSETFROM:+0200
TZOFFSETTO:+0100
TZNAME:CET
DTSTART:20231029T010000
END:STANDARD
END:VTIMEZONE
BEGIN:VEVENT
DTSTART;TZID=Europe/Paris:20230919T080000
DTEND;TZID=Europe/Paris:20230919T110000
DTSTAMP:20260424T075936
CREATED:20230810T131325Z
LAST-MODIFIED:20230915T144125Z
UID:128-1695110400-1695121200@paev.fr
SUMMARY:Réunion de l'Association - "Comment prospérer dans un environnement incertain ?"
DESCRIPTION:Intervenant : notre adhérent Anthony Murcia – Notaire \nThématique : « Comment prospérer dans un environnement incertain ? »
URL:https://paev.fr/index.php/event/reunion-de-lassociation/
LOCATION:Salle Jean Bourde\, Rue du Puits de la Muse\, Ventabren\, 13122
END:VEVENT
END:VCALENDAR