BEGIN:VCALENDAR
VERSION:2.0
PRODID:-//paev.fr - ECPv6.1.3//NONSGML v1.0//EN
CALSCALE:GREGORIAN
METHOD:PUBLISH
X-ORIGINAL-URL:https://paev.fr
X-WR-CALDESC:évènements pour paev.fr
REFRESH-INTERVAL;VALUE=DURATION:PT1H
X-Robots-Tag:noindex
X-PUBLISHED-TTL:PT1H
BEGIN:VTIMEZONE
TZID:Europe/Paris
BEGIN:DAYLIGHT
TZOFFSETFROM:+0100
TZOFFSETTO:+0200
TZNAME:CEST
DTSTART:20230326T010000
END:DAYLIGHT
BEGIN:STANDARD
TZOFFSETFROM:+0200
TZOFFSETTO:+0100
TZNAME:CET
DTSTART:20231029T010000
END:STANDARD
END:VTIMEZONE
BEGIN:VEVENT
DTSTART;TZID=Europe/Paris:20231123T080000
DTEND;TZID=Europe/Paris:20231123T110000
DTSTAMP:20260424T034938
CREATED:20230810T131811Z
LAST-MODIFIED:20230920T122450Z
UID:136-1700726400-1700737200@paev.fr
SUMMARY:Réunion de l'Association
DESCRIPTION:Intervenant : M. LIBERMAN Hervé (Conseiller Régional Région Sud – Provence-Alpes-Côte-d’Azur- Président Commission Sport et Préparation J.O. 2024) pour une présentation des JO 2024 dans notre région.
URL:https://paev.fr/index.php/event/reunion-de-lassociation-3/
LOCATION:Salle Jean Bourde\, Rue du Puits de la Muse\, Ventabren\, 13122
END:VEVENT
END:VCALENDAR