BEGIN:VCALENDAR
VERSION:2.0
PRODID:-//paev.fr - ECPv6.1.3//NONSGML v1.0//EN
CALSCALE:GREGORIAN
METHOD:PUBLISH
X-ORIGINAL-URL:https://paev.fr
X-WR-CALDESC:évènements pour paev.fr
REFRESH-INTERVAL;VALUE=DURATION:PT1H
X-Robots-Tag:noindex
X-PUBLISHED-TTL:PT1H
BEGIN:VTIMEZONE
TZID:Europe/Paris
BEGIN:DAYLIGHT
TZOFFSETFROM:+0100
TZOFFSETTO:+0200
TZNAME:CEST
DTSTART:20240331T010000
END:DAYLIGHT
BEGIN:STANDARD
TZOFFSETFROM:+0200
TZOFFSETTO:+0100
TZNAME:CET
DTSTART:20241027T010000
END:STANDARD
END:VTIMEZONE
BEGIN:VEVENT
DTSTART;TZID=Europe/Paris:20240123T080000
DTEND;TZID=Europe/Paris:20240123T100000
DTSTAMP:20260424T010436
CREATED:20240118T153805Z
LAST-MODIFIED:20240118T153918Z
UID:358-1705996800-1706004000@paev.fr
SUMMARY:Réunion de la protection du dirigeant\, prévoyance\, contrat associés\,...
DESCRIPTION:Intervenant : Xavier Groualle – Agent général AXA Prévoyance et Patrimoine
URL:https://paev.fr/index.php/event/reunion-protection-dirigeant/
LOCATION:Salle Jean Bourde\, Rue du Puits de la Muse\, Ventabren\, 13122
END:VEVENT
END:VCALENDAR