BEGIN:VCALENDAR
VERSION:2.0
PRODID:-//paev.fr - ECPv6.1.3//NONSGML v1.0//EN
CALSCALE:GREGORIAN
METHOD:PUBLISH
X-ORIGINAL-URL:https://paev.fr
X-WR-CALDESC:évènements pour paev.fr
REFRESH-INTERVAL;VALUE=DURATION:PT1H
X-Robots-Tag:noindex
X-PUBLISHED-TTL:PT1H
BEGIN:VTIMEZONE
TZID:Europe/Paris
BEGIN:DAYLIGHT
TZOFFSETFROM:+0100
TZOFFSETTO:+0200
TZNAME:CEST
DTSTART:20240331T010000
END:DAYLIGHT
BEGIN:STANDARD
TZOFFSETFROM:+0200
TZOFFSETTO:+0100
TZNAME:CET
DTSTART:20241027T010000
END:STANDARD
END:VTIMEZONE
BEGIN:VEVENT
DTSTART;VALUE=DATE:20240618
DTEND;VALUE=DATE:20240619
DTSTAMP:20260423T174005
CREATED:20240611T125249Z
LAST-MODIFIED:20240611T125249Z
UID:469-1718668800-1718755199@paev.fr
SUMMARY:Evénement de l'été
DESCRIPTION:Avec initiation pour débutant et initié encadré ⛳ par deux professionnels au golf 🏌️ qui sera suivi par un buffet dînatoire.
URL:https://paev.fr/index.php/event/evenement-de-lete/
LOCATION:Golf d’Aix les Milles
END:VEVENT
BEGIN:VEVENT
DTSTART;TZID=Europe/Paris:20240619T080000
DTEND;TZID=Europe/Paris:20240619T110000
DTSTAMP:20260423T174005
CREATED:20240618T074955Z
LAST-MODIFIED:20240618T074955Z
UID:488-1718784000-1718794800@paev.fr
SUMMARY:Réunion de l'Association
DESCRIPTION:
URL:https://paev.fr/index.php/event/reunion-de-lassociation-4/
LOCATION:Salle Jean Bourde\, Rue du Puits de la Muse\, Ventabren\, 13122
END:VEVENT
END:VCALENDAR